BEGIN:VCALENDAR
VERSION:2.0
PRODID:-//Igreja do Nazareno em Anchieta - ECPv5.2.1//NONSGML v1.0//EN
CALSCALE:GREGORIAN
METHOD:PUBLISH
X-WR-CALNAME:Igreja do Nazareno em Anchieta
X-ORIGINAL-URL:http://www.nazarenoanchieta.com.br
X-WR-CALDESC:Eventos para Igreja do Nazareno em Anchieta
BEGIN:VTIMEZONE
TZID:America/Sao_Paulo
BEGIN:STANDARD
TZOFFSETFROM:-0200
TZOFFSETTO:-0300
TZNAME:-03
DTSTART:20170219T020000
END:STANDARD
BEGIN:DAYLIGHT
TZOFFSETFROM:-0300
TZOFFSETTO:-0200
TZNAME:-02
DTSTART:20171015T030000
END:DAYLIGHT
END:VTIMEZONE
BEGIN:VEVENT
DTSTART;TZID=America/Sao_Paulo:20171028T193000
DTEND;TZID=America/Sao_Paulo:20171028T213000
DTSTAMP:20260420T091544
CREATED:20170904T173851Z
LAST-MODIFIED:20171018T011959Z
UID:9223-1509219000-1509226200@www.nazarenoanchieta.com.br
SUMMARY:13º Congresso de Jovens (3º dia)
DESCRIPTION:Tema: \nVocê é um protestante na sua geração? \nPreletor: \n 
URL:http://www.nazarenoanchieta.com.br/evento/13-congresso-de-jovens-3-dia/
LOCATION:Igreja\, Rua Zanini\, 43 - Anchieta - Igreja do Nazareno\, Rio de Janeiro\, RJ\, 21630-330\, Brasil
CATEGORIES:Congresso
ATTACH;FMTTYPE=image/jpeg:http://www.nazarenoanchieta.com.br/wp-content/uploads/2017/09/capa-congresso-jni.jpg
ORGANIZER;CN="JNI":MAILTO:jni@nazarenoanchieta.com.br
END:VEVENT
END:VCALENDAR