BEGIN:VCALENDAR
VERSION:2.0
PRODID:-//Igreja do Nazareno em Anchieta - ECPv5.2.1//NONSGML v1.0//EN
CALSCALE:GREGORIAN
METHOD:PUBLISH
X-WR-CALNAME:Igreja do Nazareno em Anchieta
X-ORIGINAL-URL:http://www.nazarenoanchieta.com.br
X-WR-CALDESC:Eventos para Igreja do Nazareno em Anchieta
BEGIN:VTIMEZONE
TZID:America/Sao_Paulo
BEGIN:STANDARD
TZOFFSETFROM:-0200
TZOFFSETTO:-0300
TZNAME:-03
DTSTART:20180218T020000
END:STANDARD
BEGIN:DAYLIGHT
TZOFFSETFROM:-0300
TZOFFSETTO:-0200
TZNAME:-02
DTSTART:20181021T030000
END:DAYLIGHT
END:VTIMEZONE
BEGIN:VEVENT
DTSTART;TZID=America/Sao_Paulo:20180817T190000
DTEND;TZID=America/Sao_Paulo:20180817T190000
DTSTAMP:20260420T044420
CREATED:20180810T015327Z
LAST-MODIFIED:20180810T015327Z
UID:9550-1534532400-1534532400@www.nazarenoanchieta.com.br
SUMMARY:1º Congresso Infantil
DESCRIPTION:Tema:\nPequenos construtores em uma grande obra \nLocal:\nRua Zanini 43 – Anchieta \nData:\nDias 17 e 18 de Agosto \nHorário:\nÀs 19 horas
URL:http://www.nazarenoanchieta.com.br/evento/1o-congresso-infantil-1/
LOCATION:Igreja\, Rua Zanini\, 43 - Anchieta - Igreja do Nazareno\, Rio de Janeiro\, RJ\, 21630-330\, Brasil
CATEGORIES:Congresso
ATTACH;FMTTYPE=image/png:http://www.nazarenoanchieta.com.br/wp-content/uploads/2018/08/700x350-1.png
END:VEVENT
END:VCALENDAR