BEGIN:VCALENDAR
VERSION:2.0
PRODID:-//Igreja do Nazareno em Anchieta - ECPv5.2.1//NONSGML v1.0//EN
CALSCALE:GREGORIAN
METHOD:PUBLISH
X-WR-CALNAME:Igreja do Nazareno em Anchieta
X-ORIGINAL-URL:http://www.nazarenoanchieta.com.br
X-WR-CALDESC:Eventos para Igreja do Nazareno em Anchieta
BEGIN:VTIMEZONE
TZID:America/Sao_Paulo
BEGIN:STANDARD
TZOFFSETFROM:-0200
TZOFFSETTO:-0300
TZNAME:-03
DTSTART:20180218T020000
END:STANDARD
BEGIN:DAYLIGHT
TZOFFSETFROM:-0300
TZOFFSETTO:-0200
TZNAME:-02
DTSTART:20181021T030000
END:DAYLIGHT
END:VTIMEZONE
BEGIN:VEVENT
DTSTART;TZID=America/Sao_Paulo:20181111T190000
DTEND;TZID=America/Sao_Paulo:20181111T210000
DTSTAMP:20260420T013204
CREATED:20181108T031724Z
LAST-MODIFIED:20181108T031958Z
UID:9572-1541962800-1541970000@www.nazarenoanchieta.com.br
SUMMARY:Culto especial com a presença do Pr. Manuel Gamaliel
DESCRIPTION:Em ocasião do 15º aniversário do templo\, estaremos recebendo o Rev. Manuel Gamaliel no dia 11/11/18. Ele estará sendo o preletor no culto pela manhã e à noite.
URL:http://www.nazarenoanchieta.com.br/evento/culto-especial/
LOCATION:Igreja\, Rua Zanini\, 43 - Anchieta - Igreja do Nazareno\, Rio de Janeiro\, RJ\, 21630-330\, Brasil
ATTACH;FMTTYPE=image/png:http://www.nazarenoanchieta.com.br/wp-content/uploads/2018/11/culto-especial.png
END:VEVENT
END:VCALENDAR