BEGIN:VCALENDAR
VERSION:2.0
PRODID:-//Igreja do Nazareno em Anchieta - ECPv5.2.1//NONSGML v1.0//EN
CALSCALE:GREGORIAN
METHOD:PUBLISH
X-WR-CALNAME:Igreja do Nazareno em Anchieta
X-ORIGINAL-URL:http://www.nazarenoanchieta.com.br
X-WR-CALDESC:Eventos para Igreja do Nazareno em Anchieta
BEGIN:VTIMEZONE
TZID:America/Sao_Paulo
BEGIN:STANDARD
TZOFFSETFROM:-0200
TZOFFSETTO:-0300
TZNAME:-03
DTSTART:20180218T020000
END:STANDARD
BEGIN:DAYLIGHT
TZOFFSETFROM:-0300
TZOFFSETTO:-0200
TZNAME:-02
DTSTART:20181021T030000
END:DAYLIGHT
END:VTIMEZONE
BEGIN:VEVENT
DTSTART;TZID=America/Sao_Paulo:20180108T193000
DTEND;TZID=America/Sao_Paulo:20180108T213000
DTSTAMP:20260420T091754
CREATED:20180108T160154Z
LAST-MODIFIED:20180110T191114Z
UID:9318-1515439800-1515447000@www.nazarenoanchieta.com.br
SUMMARY:Curso de obreiros distrital 2018 - Antigo Testamento
DESCRIPTION:1ª Disciplina: \n\nAntigo Testamento;\n\nAssuntos: \n\nCriação;\nPatriarcas;\nTabernáculo;\nLeis;\nPeríodo teocrático;\nLivros poéticos;\nReino unido;\nReino dividido.\n\nProfessor: \n\nGesiel Christino.
URL:http://www.nazarenoanchieta.com.br/evento/curso-de-obreiros-distrital-2018-antigo-testamento/
LOCATION:Igreja\, Rua Zanini\, 43 - Anchieta - Igreja do Nazareno\, Rio de Janeiro\, RJ\, 21630-330\, Brasil
CATEGORIES:Curso
END:VEVENT
END:VCALENDAR