BEGIN:VCALENDAR
VERSION:2.0
PRODID:-//Igreja do Nazareno em Anchieta - ECPv5.2.1//NONSGML v1.0//EN
CALSCALE:GREGORIAN
METHOD:PUBLISH
X-WR-CALNAME:Igreja do Nazareno em Anchieta
X-ORIGINAL-URL:http://www.nazarenoanchieta.com.br
X-WR-CALDESC:Eventos para Igreja do Nazareno em Anchieta
BEGIN:VTIMEZONE
TZID:America/Sao_Paulo
BEGIN:STANDARD
TZOFFSETFROM:-0200
TZOFFSETTO:-0300
TZNAME:-03
DTSTART:20180218T020000
END:STANDARD
BEGIN:DAYLIGHT
TZOFFSETFROM:-0300
TZOFFSETTO:-0200
TZNAME:-02
DTSTART:20181021T030000
END:DAYLIGHT
END:VTIMEZONE
BEGIN:VEVENT
DTSTART;TZID=America/Sao_Paulo:20180812T180000
DTEND;TZID=America/Sao_Paulo:20180812T180000
DTSTAMP:20260420T044006
CREATED:20180726T163043Z
LAST-MODIFIED:20180726T163150Z
UID:9544-1534096800-1534096800@www.nazarenoanchieta.com.br
SUMMARY:Festa de Rua
DESCRIPTION:“Oh! quão bom e quão suave é que os irmãos vivam em união.” Salmos 133:1\nJunte-se a nós para momentos de comunhão e alegria! Não perca nossa festa de rua nos dias 11 e 12 de agosto! Esperamos vocês! \nLocal:\nRua Zanini 43 – Anchieta \nData:\nDias 11 e 12 de Agosto \nHorário:\nÀs 18:00 Horas
URL:http://www.nazarenoanchieta.com.br/evento/festa-de-rua-2/
LOCATION:Em frente a Igreja\, Rua Giudita Reale\, S/N - Anchieta\, Rio de Janeiro\, RJ\, 21630-140\, Brasil
CATEGORIES:Festa de Rua
ATTACH;FMTTYPE=image/png:http://www.nazarenoanchieta.com.br/wp-content/uploads/2018/07/festa-de-rua-site2.png
END:VEVENT
END:VCALENDAR