BEGIN:VCALENDAR
VERSION:2.0
PRODID:-//Igreja do Nazareno em Anchieta - ECPv5.2.1//NONSGML v1.0//EN
CALSCALE:GREGORIAN
METHOD:PUBLISH
X-WR-CALNAME:Igreja do Nazareno em Anchieta
X-ORIGINAL-URL:https://www.nazarenoanchieta.com.br
X-WR-CALDESC:Eventos para Igreja do Nazareno em Anchieta
BEGIN:VTIMEZONE
TZID:America/Sao_Paulo
BEGIN:STANDARD
TZOFFSETFROM:-0200
TZOFFSETTO:-0300
TZNAME:-03
DTSTART:20190217T020000
END:STANDARD
BEGIN:DAYLIGHT
TZOFFSETFROM:-0300
TZOFFSETTO:-0200
TZNAME:-02
DTSTART:20191020T030000
END:DAYLIGHT
END:VTIMEZONE
BEGIN:VEVENT
DTSTART;TZID=America/Sao_Paulo:20190507T190000
DTEND;TZID=America/Sao_Paulo:20190507T210000
DTSTAMP:20260421T175702
CREATED:20190426T160712Z
LAST-MODIFIED:20190426T160712Z
UID:9764-1557255600-1557262800@www.nazarenoanchieta.com.br
SUMMARY:Papo De Amigas - Especial Mês Das Mães
DESCRIPTION:Dia: 07/05/19 \nHorário: Às 19H \nPreletora: Prª Patrícia Santos (Ministério Apostólico Novo Tempo e Nova Terra) \nParticipação: Grupo de Dança Baluarte
URL:https://www.nazarenoanchieta.com.br/evento/papo-de-amigas-especial-mes-das-maes/
LOCATION:Igreja\, Rua Zanini\, 43 - Anchieta - Igreja do Nazareno\, Rio de Janeiro\, RJ\, 21630-330\, Brasil
ATTACH;FMTTYPE=image/png:https://www.nazarenoanchieta.com.br/wp-content/uploads/2019/04/papo-site.png
END:VEVENT
END:VCALENDAR