BEGIN:VCALENDAR
VERSION:2.0
PRODID:-//Igreja do Nazareno em Anchieta - ECPv5.2.1//NONSGML v1.0//EN
CALSCALE:GREGORIAN
METHOD:PUBLISH
X-WR-CALNAME:Igreja do Nazareno em Anchieta
X-ORIGINAL-URL:https://www.nazarenoanchieta.com.br
X-WR-CALDESC:Eventos para Igreja do Nazareno em Anchieta
BEGIN:VTIMEZONE
TZID:America/Sao_Paulo
BEGIN:STANDARD
TZOFFSETFROM:-0200
TZOFFSETTO:-0300
TZNAME:-03
DTSTART:20190217T020000
END:STANDARD
BEGIN:DAYLIGHT
TZOFFSETFROM:-0300
TZOFFSETTO:-0200
TZNAME:-02
DTSTART:20191020T030000
END:DAYLIGHT
END:VTIMEZONE
BEGIN:VEVENT
DTSTART;TZID=America/Sao_Paulo:20190615T190000
DTEND;TZID=America/Sao_Paulo:20190615T210000
DTSTAMP:20260421T163422
CREATED:20190605T181358Z
LAST-MODIFIED:20190605T181628Z
UID:9837-1560625200-1560632400@www.nazarenoanchieta.com.br
SUMMARY:CULTO JNI
DESCRIPTION:Dia: 15/06/19 \nHorário: 19H \nConvidados: JNI do Cabral\, JNI Vila Norma \nPreletor: Pr. Gessonias
URL:https://www.nazarenoanchieta.com.br/evento/culto-jni/
LOCATION:Igreja\, Rua Zanini\, 43 - Anchieta - Igreja do Nazareno\, Rio de Janeiro\, RJ\, 21630-330\, Brasil
ATTACH;FMTTYPE=image/png:https://www.nazarenoanchieta.com.br/wp-content/uploads/2019/06/jni-site.png
ORGANIZER;CN="JNI":MAILTO:jni@nazarenoanchieta.com.br
END:VEVENT
END:VCALENDAR