BEGIN:VCALENDAR
VERSION:2.0
PRODID:-//Igreja do Nazareno em Anchieta - ECPv5.2.1//NONSGML v1.0//EN
CALSCALE:GREGORIAN
METHOD:PUBLISH
X-WR-CALNAME:Igreja do Nazareno em Anchieta
X-ORIGINAL-URL:https://www.nazarenoanchieta.com.br
X-WR-CALDESC:Eventos para Igreja do Nazareno em Anchieta
BEGIN:VTIMEZONE
TZID:America/Sao_Paulo
BEGIN:STANDARD
TZOFFSETFROM:-0200
TZOFFSETTO:-0300
TZNAME:-03
DTSTART:20190217T020000
END:STANDARD
BEGIN:DAYLIGHT
TZOFFSETFROM:-0300
TZOFFSETTO:-0200
TZNAME:-02
DTSTART:20191020T030000
END:DAYLIGHT
END:VTIMEZONE
BEGIN:VEVENT
DTSTART;TZID=America/Sao_Paulo:20190713T140000
DTEND;TZID=America/Sao_Paulo:20190713T140000
DTSTAMP:20260421T151615
CREATED:20190703T182411Z
LAST-MODIFIED:20190703T182411Z
UID:9873-1563026400-1563026400@www.nazarenoanchieta.com.br
SUMMARY:EVANGELISMO DO MINISTÉRIO INFANTIL PARA EBF 2019
DESCRIPTION:Data: 13/07 \nHorário: Às 14H
URL:https://www.nazarenoanchieta.com.br/evento/evangelismo-do-ministerio-infantil-para-ebf-2019/
LOCATION:Igreja\, Rua Zanini\, 43 - Anchieta - Igreja do Nazareno\, Rio de Janeiro\, RJ\, 21630-330\, Brasil
ATTACH;FMTTYPE=image/png:https://www.nazarenoanchieta.com.br/wp-content/uploads/2019/07/evangelismo-igreja-mirim.png
END:VEVENT
END:VCALENDAR