BEGIN:VCALENDAR
VERSION:2.0
PRODID:-//Igreja do Nazareno em Anchieta - ECPv5.2.1//NONSGML v1.0//EN
CALSCALE:GREGORIAN
METHOD:PUBLISH
X-WR-CALNAME:Igreja do Nazareno em Anchieta
X-ORIGINAL-URL:https://www.nazarenoanchieta.com.br
X-WR-CALDESC:Eventos para Igreja do Nazareno em Anchieta
BEGIN:VTIMEZONE
TZID:America/Sao_Paulo
BEGIN:STANDARD
TZOFFSETFROM:-0200
TZOFFSETTO:-0300
TZNAME:-03
DTSTART:20190217T020000
END:STANDARD
BEGIN:DAYLIGHT
TZOFFSETFROM:-0300
TZOFFSETTO:-0200
TZNAME:-02
DTSTART:20191020T030000
END:DAYLIGHT
END:VTIMEZONE
BEGIN:VEVENT
DTSTART;TZID=America/Sao_Paulo:20190907T193000
DTEND;TZID=America/Sao_Paulo:20190907T193000
DTSTAMP:20260421T081946
CREATED:20190219T174801Z
LAST-MODIFIED:20190521T200437Z
UID:9693-1567884600-1567884600@www.nazarenoanchieta.com.br
SUMMARY:15º CONGRESSO DE MULHERES
DESCRIPTION:  \n 
URL:https://www.nazarenoanchieta.com.br/evento/15o-congresso-de-mulheres-3/
LOCATION:Igreja\, Rua Zanini\, 43 - Anchieta - Igreja do Nazareno\, Rio de Janeiro\, RJ\, 21630-330\, Brasil
CATEGORIES:Congresso
ATTACH;FMTTYPE=image/png:https://www.nazarenoanchieta.com.br/wp-content/uploads/2019/02/mulheres.png
END:VEVENT
END:VCALENDAR