BEGIN:VCALENDAR
VERSION:2.0
PRODID:-//Igreja do Nazareno em Anchieta - ECPv5.2.1//NONSGML v1.0//EN
CALSCALE:GREGORIAN
METHOD:PUBLISH
X-WR-CALNAME:Igreja do Nazareno em Anchieta
X-ORIGINAL-URL:https://www.nazarenoanchieta.com.br
X-WR-CALDESC:Eventos para Igreja do Nazareno em Anchieta
BEGIN:VTIMEZONE
TZID:America/Sao_Paulo
BEGIN:STANDARD
TZOFFSETFROM:-0200
TZOFFSETTO:-0300
TZNAME:-03
DTSTART:20190217T020000
END:STANDARD
BEGIN:DAYLIGHT
TZOFFSETFROM:-0300
TZOFFSETTO:-0200
TZNAME:-02
DTSTART:20191020T030000
END:DAYLIGHT
END:VTIMEZONE
BEGIN:VEVENT
DTSTART;VALUE=DATE:20190927
DTEND;VALUE=DATE:20190928
DTSTAMP:20260421T082303
CREATED:20190219T175414Z
LAST-MODIFIED:20190608T032400Z
UID:9697-1569542400-1569628799@www.nazarenoanchieta.com.br
SUMMARY:MAIS DOCE QUE O MEL
DESCRIPTION:
URL:https://www.nazarenoanchieta.com.br/evento/mais-doce-que-o-mel/
ATTACH;FMTTYPE=image/png:https://www.nazarenoanchieta.com.br/wp-content/uploads/2019/02/mais-doce-que-o-mel-site.png
END:VEVENT
BEGIN:VEVENT
DTSTART;VALUE=DATE:20190927
DTEND;VALUE=DATE:20190928
DTSTAMP:20260421T082303
CREATED:20190913T035811Z
LAST-MODIFIED:20190913T040501Z
UID:10001-1569542400-1569628799@www.nazarenoanchieta.com.br
SUMMARY:Aniversário da igreja em São Pedro da Aldeia
DESCRIPTION:
URL:https://www.nazarenoanchieta.com.br/evento/aniversario-da-igreja-em-sao-pedro-da-aldeia/
ATTACH;FMTTYPE=image/png:https://www.nazarenoanchieta.com.br/wp-content/uploads/2019/09/são-pedro-site.png
END:VEVENT
END:VCALENDAR