BEGIN:VCALENDAR
VERSION:2.0
PRODID:-//Igreja do Nazareno em Anchieta - ECPv5.2.1//NONSGML v1.0//EN
CALSCALE:GREGORIAN
METHOD:PUBLISH
X-WR-CALNAME:Igreja do Nazareno em Anchieta
X-ORIGINAL-URL:https://www.nazarenoanchieta.com.br
X-WR-CALDESC:Eventos para Igreja do Nazareno em Anchieta
BEGIN:VTIMEZONE
TZID:America/Sao_Paulo
BEGIN:STANDARD
TZOFFSETFROM:-0200
TZOFFSETTO:-0300
TZNAME:-03
DTSTART:20190217T020000
END:STANDARD
BEGIN:DAYLIGHT
TZOFFSETFROM:-0300
TZOFFSETTO:-0200
TZNAME:-02
DTSTART:20191020T030000
END:DAYLIGHT
END:VTIMEZONE
BEGIN:VEVENT
DTSTART;VALUE=DATE:20190928
DTEND;VALUE=DATE:20190929
DTSTAMP:20260421T070428
CREATED:20190829T160517Z
LAST-MODIFIED:20190829T160517Z
UID:9994-1569628800-1569715199@www.nazarenoanchieta.com.br
SUMMARY:SAÍDA PARA SÃO PEDRO DA ALDEIA
DESCRIPTION:
URL:https://www.nazarenoanchieta.com.br/evento/saida-para-sao-pedro-da-aldeia/
LOCATION:Igreja\, Rua Zanini\, 43 - Anchieta - Igreja do Nazareno\, Rio de Janeiro\, RJ\, 21630-330\, Brasil
END:VEVENT
BEGIN:VEVENT
DTSTART;VALUE=DATE:20190928
DTEND;VALUE=DATE:20190929
DTSTAMP:20260421T070428
CREATED:20190913T040407Z
LAST-MODIFIED:20190913T040507Z
UID:10007-1569628800-1569715199@www.nazarenoanchieta.com.br
SUMMARY:Aniversário da igreja em São Pedro da Aldeia
DESCRIPTION:
URL:https://www.nazarenoanchieta.com.br/evento/aniversario-da-igreja-em-sao-pedro-da-aldeia-3/
LOCATION:RJ
ATTACH;FMTTYPE=image/png:https://www.nazarenoanchieta.com.br/wp-content/uploads/2019/09/são-pedro-site.png
END:VEVENT
END:VCALENDAR